BEGIN:VCALENDAR
VERSION:2.0
PRODID:-//Chandrakirti Meditation Centre - ECPv6.15.20//NONSGML v1.0//EN
CALSCALE:GREGORIAN
METHOD:PUBLISH
X-WR-CALNAME:Chandrakirti Meditation Centre
X-ORIGINAL-URL:https://www.chandrakirti.co.nz
X-WR-CALDESC:Events for Chandrakirti Meditation Centre
REFRESH-INTERVAL;VALUE=DURATION:PT1H
X-Robots-Tag:noindex
X-PUBLISHED-TTL:PT1H
BEGIN:VTIMEZONE
TZID:Pacific/Auckland
BEGIN:STANDARD
TZOFFSETFROM:+1300
TZOFFSETTO:+1200
TZNAME:NZST
DTSTART:20240406T140000
END:STANDARD
BEGIN:DAYLIGHT
TZOFFSETFROM:+1200
TZOFFSETTO:+1300
TZNAME:NZDT
DTSTART:20240928T140000
END:DAYLIGHT
BEGIN:STANDARD
TZOFFSETFROM:+1300
TZOFFSETTO:+1200
TZNAME:NZST
DTSTART:20250405T140000
END:STANDARD
BEGIN:DAYLIGHT
TZOFFSETFROM:+1200
TZOFFSETTO:+1300
TZNAME:NZDT
DTSTART:20250927T140000
END:DAYLIGHT
BEGIN:STANDARD
TZOFFSETFROM:+1300
TZOFFSETTO:+1200
TZNAME:NZST
DTSTART:20260404T140000
END:STANDARD
BEGIN:DAYLIGHT
TZOFFSETFROM:+1200
TZOFFSETTO:+1300
TZNAME:NZDT
DTSTART:20260926T140000
END:DAYLIGHT
END:VTIMEZONE
BEGIN:VEVENT
DTSTART;TZID=Pacific/Auckland:20250602T150000
DTEND;TZID=Pacific/Auckland:20250602T183000
DTSTAMP:20260426T012541
CREATED:20250525T025116Z
LAST-MODIFIED:20250525T025116Z
UID:13636-1748876400-1748889000@www.chandrakirti.co.nz
SUMMARY:Welcoming Kyabje Lama Zopa Rincpohe's holy relics & Momo Party
DESCRIPTION:Please join us for a joyful afternoon at Chandrakirti Centre with Geshe Tharchin as we gather to make delicious momo together 🥰 \nAfterwards\, take part in a heartfelt procession to Nalanda Hall to officially welcome the holy relics of Kyabje Lama Zopa Rinpoche—a deeply meaningful moment for Chandrakirti friends and family 🙏 \nDon’t miss this chance to be part of something joyful and sacred 😇 \n🪷Momo making: 3.00pm\n🪷Procession to Gompa: 5.00pm \n💛 All warmly welcome – please kindly RSVP 🥳
URL:https://www.chandrakirti.co.nz/event/welcoming-kyabje-lama-zopa-rincpohes-holy-relics-momo-party/
LOCATION:Chandrakirti Meditation Centre\, 289 Sunrise Valley Road\, Upper Moutere\, 7173\, New Zealand
END:VEVENT
END:VCALENDAR