BEGIN:VCALENDAR
VERSION:2.0
PRODID:-//Chandrakirti Meditation Centre - ECPv6.15.20//NONSGML v1.0//EN
CALSCALE:GREGORIAN
METHOD:PUBLISH
X-WR-CALNAME:Chandrakirti Meditation Centre
X-ORIGINAL-URL:https://www.chandrakirti.co.nz
X-WR-CALDESC:Events for Chandrakirti Meditation Centre
REFRESH-INTERVAL;VALUE=DURATION:PT1H
X-Robots-Tag:noindex
X-PUBLISHED-TTL:PT1H
BEGIN:VTIMEZONE
TZID:Pacific/Auckland
BEGIN:STANDARD
TZOFFSETFROM:+1300
TZOFFSETTO:+1200
TZNAME:NZST
DTSTART:20240406T140000
END:STANDARD
BEGIN:DAYLIGHT
TZOFFSETFROM:+1200
TZOFFSETTO:+1300
TZNAME:NZDT
DTSTART:20240928T140000
END:DAYLIGHT
BEGIN:STANDARD
TZOFFSETFROM:+1300
TZOFFSETTO:+1200
TZNAME:NZST
DTSTART:20250405T140000
END:STANDARD
BEGIN:DAYLIGHT
TZOFFSETFROM:+1200
TZOFFSETTO:+1300
TZNAME:NZDT
DTSTART:20250927T140000
END:DAYLIGHT
BEGIN:STANDARD
TZOFFSETFROM:+1300
TZOFFSETTO:+1200
TZNAME:NZST
DTSTART:20260404T140000
END:STANDARD
BEGIN:DAYLIGHT
TZOFFSETFROM:+1200
TZOFFSETTO:+1300
TZNAME:NZDT
DTSTART:20260926T140000
END:DAYLIGHT
END:VTIMEZONE
BEGIN:VEVENT
DTSTART;TZID=Pacific/Auckland:20250504T080000
DTEND;TZID=Pacific/Auckland:20250504T170000
DTSTAMP:20260425T234847
CREATED:20250504T063321Z
LAST-MODIFIED:20250504T063321Z
UID:13562-1746345600-1746378000@www.chandrakirti.co.nz
SUMMARY:Teaching Weekend with Geshela
DESCRIPTION:Join us for a teaching weekend with Geshe Tharchin \nFriday December 5th and Saturday December 6th \nMore info TBA. \nTo register please email meditate@chadrakirti.co.nz
URL:https://www.chandrakirti.co.nz/event/teaching-weekend-with-geshela-3/
LOCATION:Chandrakirti Meditation Centre\, 289 Sunrise Valley Road\, Upper Moutere\, 7173\, New Zealand
END:VEVENT
BEGIN:VEVENT
DTSTART;TZID=Pacific/Auckland:20250523T093000
DTEND;TZID=Pacific/Auckland:20250523T153000
DTSTAMP:20260425T234847
CREATED:20250427T001329Z
LAST-MODIFIED:20250506T042254Z
UID:10396-1747992600-1748014200@www.chandrakirti.co.nz
SUMMARY:One Day Teaching Course with Geshe Tharchin- Beyond Attachments: The Path to Unshakable Freedom and Peace
DESCRIPTION:Based on Sachen Kunga Nyingbon’s “Parting from the four attachments” Geshe Tharchin will take us through four pieces of advice which contains the quintessence of all the Sutra and Tantra teachings. In just four lines\, this profound instruction offers a complete guide to the spiritual path — from developing genuine renunciation to realizing ultimate wisdom. Through teachings\, meditation\, and discussion\, we will explore how letting go of worldly attachments opens the door to lasting freedom and happiness. Whether you’re new to Dharma or deepening your practice\, this retreat offers clear\, powerful tools for inner growth. 🪷🪷🪷 \nFriday May 23rd 9:30am to 3:30pm \nCourse fee $80\, includes text materials\, lunch and refreshments. \nPlease email us to register. \n 
URL:https://www.chandrakirti.co.nz/event/beyond-attachments/
LOCATION:Chandrakirti Meditation Centre\, 289 Sunrise Valley Road\, Upper Moutere\, 7173\, New Zealand
CATEGORIES:Retreats
END:VEVENT
BEGIN:VEVENT
DTSTART;TZID=Pacific/Auckland:20250531T060000
DTEND;TZID=Pacific/Auckland:20250531T190000
DTSTAMP:20260425T234847
CREATED:20250402T032730Z
LAST-MODIFIED:20250524T023017Z
UID:13377-1748671200-1748718000@www.chandrakirti.co.nz
SUMMARY:Chenrezig Practice
DESCRIPTION:Chenrezig sadhana practice and Mahayana precepts for the day. \nSaturday May 31st. From 6am till 7pm. \nRetreat fee $80. \nEmail us to book your spot: meditate@chandrakirti.co.nz \n  \nSchedule: \n6am-9am session 1 \n10am-noon session 2 \n230pm-400pm session 3 \n500pm-700pm session 4
URL:https://www.chandrakirti.co.nz/event/chenrezig-practice/
LOCATION:Chandrakirti Meditation Centre\, 289 Sunrise Valley Road\, Upper Moutere\, 7173\, New Zealand
CATEGORIES:Retreats
END:VEVENT
END:VCALENDAR