BEGIN:VCALENDAR
VERSION:2.0
PRODID:-//Chandrakirti Meditation Centre - ECPv6.15.20//NONSGML v1.0//EN
CALSCALE:GREGORIAN
METHOD:PUBLISH
X-WR-CALNAME:Chandrakirti Meditation Centre
X-ORIGINAL-URL:https://www.chandrakirti.co.nz
X-WR-CALDESC:Events for Chandrakirti Meditation Centre
REFRESH-INTERVAL;VALUE=DURATION:PT1H
X-Robots-Tag:noindex
X-PUBLISHED-TTL:PT1H
BEGIN:VTIMEZONE
TZID:Pacific/Auckland
BEGIN:STANDARD
TZOFFSETFROM:+1300
TZOFFSETTO:+1200
TZNAME:NZST
DTSTART:20250405T140000
END:STANDARD
BEGIN:DAYLIGHT
TZOFFSETFROM:+1200
TZOFFSETTO:+1300
TZNAME:NZDT
DTSTART:20250927T140000
END:DAYLIGHT
BEGIN:STANDARD
TZOFFSETFROM:+1300
TZOFFSETTO:+1200
TZNAME:NZST
DTSTART:20260404T140000
END:STANDARD
BEGIN:DAYLIGHT
TZOFFSETFROM:+1200
TZOFFSETTO:+1300
TZNAME:NZDT
DTSTART:20260926T140000
END:DAYLIGHT
BEGIN:STANDARD
TZOFFSETFROM:+1300
TZOFFSETTO:+1200
TZNAME:NZST
DTSTART:20270403T140000
END:STANDARD
BEGIN:DAYLIGHT
TZOFFSETFROM:+1200
TZOFFSETTO:+1300
TZNAME:NZDT
DTSTART:20270925T140000
END:DAYLIGHT
END:VTIMEZONE
BEGIN:VEVENT
DTSTART;TZID=Pacific/Auckland:20260524T180000
DTEND;TZID=Pacific/Auckland:20260530T203000
DTSTAMP:20260425T160300
CREATED:20260415T033813Z
LAST-MODIFIED:20260421T234959Z
UID:14527-1779645600-1780173000@www.chandrakirti.co.nz
SUMMARY:Nyung Nä 6-Day Fasting & Purification Retreat
DESCRIPTION:Nyung Nä is a two day Tibetan Buddhist fasting and purification practice centered on compassion\, combining vows\, prostrations\, mantra recitation\, and periods of silence. \nIt is a very powerful practice to purify negatives karma and cultivate the compassionate mind of Chenrezig. \nWe are performing 3 sets of Nyung Nä\, finishing on Saturday 30th\, leading up to the Holy Day on Sunday May 31st Lord Buddhas Enlightenment. \nInvestment:\n$60 per day includes all meals\, retreat material and offerings.\nFull retreat cost is $420 excluding accommodation costs. \nOnsite accommodation is available. \n3 lunches will be provided in between fasting during the duration of this retreat. \n➡️Facebook Event Page \n➡️Read about Nyung Na from Lama Zopa Rinpoche \nThe first session of this retreat begins at 6pm on Sunday the 24th.\nPlease arrive earlier in the day in preparation. \nThis retreat will be taught by resident monk and teacher Geshe Jampa Tharchin who holds the highest Lharampa Geshe degree from decades of study in Sera Je Monastery in India.\nGeshe-la teaches in English and Tibetan with interpretation support from resident interpreter Jelena Kirsch. \n♦️Register here:\nEmail meditate@chandrakirti.co.nz to enquire
URL:https://www.chandrakirti.co.nz/event/nyung-na-6-day-purification-retreat/
LOCATION:Chandrakirti Meditation Centre\, 289 Sunrise Valley Road\, Upper Moutere\, 7173\, New Zealand
CATEGORIES:Retreats,Teaching
END:VEVENT
BEGIN:VEVENT
DTSTART;TZID=Pacific/Auckland:20261124T100000
DTEND;TZID=Pacific/Auckland:20261214T160000
DTSTAMP:20260425T160300
CREATED:20260126T053317Z
LAST-MODIFIED:20260126T063318Z
UID:14300-1795514400-1797264000@www.chandrakirti.co.nz
SUMMARY:Chittamani Tara Retreat 2026
DESCRIPTION:Chandrakirti Meditation Centre is delighted to host the first three week Chittamani Tara Retreat. This is in response to H.E Jhado Rinpoche so kindly offering us the full Chittamani Tara empowerment and extended commentary in October 2025. \n \n📅 Dates: Tuesday 24th November – Monday 14th December 2026 \n🧘‍♂️ Teaching & Explanation: Geshe Jampa Tharchin will offer 2 days of guidance on the Chittamani Tara practice before the retreat begins. \n🔥 Conclusion: The retreat will conclude with the Fire Puja\, followed by the Self Initiation. \nThis retreat will now be held every year at the same time for the next 10 years\, enabling each participant to individually accumulate one million mantras. \nWe have limited accommodation on site\, please be prompt with your registration \n📧 To register please fill in this Form \nor email meditate@chandrakirti.co.nz for more information \n 
URL:https://www.chandrakirti.co.nz/event/chittamani-tara-retreat-2026/
LOCATION:Chandrakirti Meditation Centre\, 289 Sunrise Valley Road\, Upper Moutere\, 7173\, New Zealand
CATEGORIES:Retreats
ATTACH;FMTTYPE=image/png:https://www.chandrakirti.co.nz/wp-content/uploads/2026/01/Screenshot-2026-01-19-164243-1-e1769405228606.png
END:VEVENT
END:VCALENDAR