BEGIN:VCALENDAR
VERSION:2.0
PRODID:-//Chandrakirti Meditation Centre - ECPv6.15.20//NONSGML v1.0//EN
CALSCALE:GREGORIAN
METHOD:PUBLISH
X-WR-CALNAME:Chandrakirti Meditation Centre
X-ORIGINAL-URL:https://www.chandrakirti.co.nz
X-WR-CALDESC:Events for Chandrakirti Meditation Centre
REFRESH-INTERVAL;VALUE=DURATION:PT1H
X-Robots-Tag:noindex
X-PUBLISHED-TTL:PT1H
BEGIN:VTIMEZONE
TZID:Pacific/Auckland
BEGIN:STANDARD
TZOFFSETFROM:+1300
TZOFFSETTO:+1200
TZNAME:NZST
DTSTART:20250405T140000
END:STANDARD
BEGIN:DAYLIGHT
TZOFFSETFROM:+1200
TZOFFSETTO:+1300
TZNAME:NZDT
DTSTART:20250927T140000
END:DAYLIGHT
BEGIN:STANDARD
TZOFFSETFROM:+1300
TZOFFSETTO:+1200
TZNAME:NZST
DTSTART:20260404T140000
END:STANDARD
BEGIN:DAYLIGHT
TZOFFSETFROM:+1200
TZOFFSETTO:+1300
TZNAME:NZDT
DTSTART:20260926T140000
END:DAYLIGHT
BEGIN:STANDARD
TZOFFSETFROM:+1300
TZOFFSETTO:+1200
TZNAME:NZST
DTSTART:20270403T140000
END:STANDARD
BEGIN:DAYLIGHT
TZOFFSETFROM:+1200
TZOFFSETTO:+1300
TZNAME:NZDT
DTSTART:20270925T140000
END:DAYLIGHT
END:VTIMEZONE
BEGIN:VEVENT
DTSTART;TZID=Pacific/Auckland:20260426T180000
DTEND;TZID=Pacific/Auckland:20260426T210000
DTSTAMP:20260425T162035
CREATED:20251110T025319Z
LAST-MODIFIED:20260401T033354Z
UID:14398-1777226400-1777237200@www.chandrakirti.co.nz
SUMMARY:Guru Puja Tsog
DESCRIPTION:Containing the whole path to enlightenment\, this Guru Puja Tsog is the foundation of all spiritual progress\, and is a profound and joyous event! Nurture the powerful potential for spiritual growth with a ceremony rich in symbolism. Reliance on our spiritual teacher is the foundation of all spiritual progress\, and this ceremony helps us create mountains of merit and purify broken samaya. \nTsok is more than just its literal meaning of “gathering.” It’s a sacred space created in the mind where practitioners unite with profound spiritual energies\, inviting the dakas and dakinis. When we create this special space through offerings and coming together—whether physically or virtually—it opens the door for spiritual insights to naturally arise. \nThe physical offerings we make are symbols that guide our minds toward deeper\, internal offerings. In Vajrayana Buddhism\, tsok is a specific feast offering practice done on the 10th (day of the herukas) and 25th (day of the dakinis) of each lunar month. Practitioners perform these offerings in connection with their personal sadhana. \nTo complete the path to enlightenment we need to maintain a strong and pure relationship with the guru. We do this by relating to the different aspects of the guru\, and to ultimately bring forth the inner guru\, the purity of our own mind. \nPlease bring a food offering – preferably something baked / fruit / something avoiding plastic. Thank you! \n  \nAll welcome to join us \n  \nIf you have any questions about this puja or would like to dedicate this puja to a person in need\, please email meditate@chandrakirti.co.nz \n  \nSponsorship for this puja is most welcome – see here.
URL:https://www.chandrakirti.co.nz/event/guru-puja-tsog-2026-04-26/
LOCATION:Chandrakirti Meditation Centre\, 289 Sunrise Valley Road\, Upper Moutere\, 7173\, New Zealand
CATEGORIES:Pujas
ATTACH;FMTTYPE=image/png:https://www.chandrakirti.co.nz/wp-content/uploads/2025/11/Screenshot-2025-12-11-153301-e1769400405905.png
END:VEVENT
BEGIN:VEVENT
DTSTART;TZID=Pacific/Auckland:20260501T100000
DTEND;TZID=Pacific/Auckland:20260501T113000
DTSTAMP:20260425T162035
CREATED:20250818T001837Z
LAST-MODIFIED:20260122T020220Z
UID:14064-1777629600-1777635000@www.chandrakirti.co.nz
SUMMARY:Medicine Buddha Puja
DESCRIPTION:Medicine Buddha Puja\n\nEvery Month –  10:00 am to 11:30 am\n\n\n\nDedicated to healing and removing obstacles – for yourself and others. \n\nEveryone is welcome! \n\n  \nMost commonly this puja is performed to assist in the recovery of illness\, or an operation. It is also done to achieve higher rebirth for the deceased. \nThe Medicine Buddha Puja can be performed extensively\, with the requests to Medicine Buddhas done seven times to each of the Buddhas. \nAdditional prayers are said for the dedication of the merit. \nBy creating extensive merit through the performance of the puja\, Medicine Buddha puja is also very helpful to bring success in all activities\, for example work related. \n  \nIf you have any questions about this puja or would like to dedicate this puja to a person in need\, please email meditate@chandrakirti.co.nz \n  \nSponsorship for this puja is most welcome – see here.
URL:https://www.chandrakirti.co.nz/event/medicine-buddha-puja-3/2026-05-01/
LOCATION:Chandrakirti Meditation Centre\, 289 Sunrise Valley Road\, Upper Moutere\, 7173\, New Zealand
CATEGORIES:Pujas
ATTACH;FMTTYPE=image/jpeg:https://www.chandrakirti.co.nz/wp-content/uploads/2023/06/mB-e1654650209714.jpg
END:VEVENT
BEGIN:VEVENT
DTSTART;TZID=Pacific/Auckland:20260514T100000
DTEND;TZID=Pacific/Auckland:20260514T120000
DTSTAMP:20260425T162035
CREATED:20260209T032848Z
LAST-MODIFIED:20260225T084755Z
UID:14344-1778752800-1778760000@www.chandrakirti.co.nz
SUMMARY:Wishfulfilling Land Prayers
DESCRIPTION:Thursday May 14th at 10am\n\nWe meet at WishFulfilling Land at 262 Central Rd South to read sutras from the Buddha to benefit all sentient beings.\n\nFollowed by a picnic lunch on the land. All most welcome to join this fun event.\n\nGive us a call on 02 5432021 or meditate@chandrakirti.co.nz
URL:https://www.chandrakirti.co.nz/event/wishfulfilling-land-prayers-3/
LOCATION:Chandrakirti Meditation Centre\, 289 Sunrise Valley Road\, Upper Moutere\, 7173\, New Zealand
CATEGORIES:Pujas
ATTACH;FMTTYPE=image/jpeg:https://www.chandrakirti.co.nz/wp-content/uploads/2026/02/prayers-at-wishfulfilling-land-3.jpeg
END:VEVENT
BEGIN:VEVENT
DTSTART;TZID=Pacific/Auckland:20260618T100000
DTEND;TZID=Pacific/Auckland:20260618T120000
DTSTAMP:20260425T162035
CREATED:20260209T033030Z
LAST-MODIFIED:20260225T085018Z
UID:14347-1781776800-1781784000@www.chandrakirti.co.nz
SUMMARY:Wishfulfilling Land Prayers
DESCRIPTION:Thursday June 18th  at 10am\n\nWe meet at WishFulfilling Land at 262 Central Rd South to read sutras from the Buddha to benefit all sentient beings.\n\nFollowed by a picnic lunch on the land. All most welcome to join this fun event.\n\nGive us a call on 02 5432021 or meditate@chandrakirti.co.nz
URL:https://www.chandrakirti.co.nz/event/wishfulfilling-land-prayers-4/
LOCATION:Chandrakirti Meditation Centre\, 289 Sunrise Valley Road\, Upper Moutere\, 7173\, New Zealand
CATEGORIES:Pujas
ATTACH;FMTTYPE=image/jpeg:https://www.chandrakirti.co.nz/wp-content/uploads/2026/02/prayers-at-wishfulfilling-land-4.jpeg
END:VEVENT
END:VCALENDAR