BEGIN:VCALENDAR
VERSION:2.0
PRODID:-//Chandrakirti Meditation Centre - ECPv6.15.20//NONSGML v1.0//EN
CALSCALE:GREGORIAN
METHOD:PUBLISH
X-ORIGINAL-URL:https://www.chandrakirti.co.nz
X-WR-CALDESC:Events for Chandrakirti Meditation Centre
REFRESH-INTERVAL;VALUE=DURATION:PT1H
X-Robots-Tag:noindex
X-PUBLISHED-TTL:PT1H
BEGIN:VTIMEZONE
TZID:Pacific/Auckland
BEGIN:STANDARD
TZOFFSETFROM:+1300
TZOFFSETTO:+1200
TZNAME:NZST
DTSTART:20240406T140000
END:STANDARD
BEGIN:DAYLIGHT
TZOFFSETFROM:+1200
TZOFFSETTO:+1300
TZNAME:NZDT
DTSTART:20240928T140000
END:DAYLIGHT
BEGIN:STANDARD
TZOFFSETFROM:+1300
TZOFFSETTO:+1200
TZNAME:NZST
DTSTART:20250405T140000
END:STANDARD
BEGIN:DAYLIGHT
TZOFFSETFROM:+1200
TZOFFSETTO:+1300
TZNAME:NZDT
DTSTART:20250927T140000
END:DAYLIGHT
BEGIN:STANDARD
TZOFFSETFROM:+1300
TZOFFSETTO:+1200
TZNAME:NZST
DTSTART:20260404T140000
END:STANDARD
BEGIN:DAYLIGHT
TZOFFSETFROM:+1200
TZOFFSETTO:+1300
TZNAME:NZDT
DTSTART:20260926T140000
END:DAYLIGHT
END:VTIMEZONE
BEGIN:VEVENT
DTSTART;TZID=Pacific/Auckland:20250818T080000
DTEND;TZID=Pacific/Auckland:20250818T130000
DTSTAMP:20260426T013750
CREATED:20250504T065941Z
LAST-MODIFIED:20250818T001623Z
UID:13578-1755504000-1755522000@www.chandrakirti.co.nz
SUMMARY:S.I. Tsog
DESCRIPTION:S.I. Tsog
URL:https://www.chandrakirti.co.nz/event/s-i-tsog/2025-08-18/
LOCATION:Chandrakirti Meditation Centre\, 289 Sunrise Valley Road\, Upper Moutere\, 7173\, New Zealand
CATEGORIES:Pujas
END:VEVENT
END:VCALENDAR