BEGIN:VCALENDAR
VERSION:2.0
PRODID:-//Chandrakirti Meditation Centre - ECPv6.15.20//NONSGML v1.0//EN
CALSCALE:GREGORIAN
METHOD:PUBLISH
X-WR-CALNAME:Chandrakirti Meditation Centre
X-ORIGINAL-URL:https://www.chandrakirti.co.nz
X-WR-CALDESC:Events for Chandrakirti Meditation Centre
REFRESH-INTERVAL;VALUE=DURATION:PT1H
X-Robots-Tag:noindex
X-PUBLISHED-TTL:PT1H
BEGIN:VTIMEZONE
TZID:Pacific/Auckland
BEGIN:STANDARD
TZOFFSETFROM:+1300
TZOFFSETTO:+1200
TZNAME:NZST
DTSTART:20240406T140000
END:STANDARD
BEGIN:DAYLIGHT
TZOFFSETFROM:+1200
TZOFFSETTO:+1300
TZNAME:NZDT
DTSTART:20240928T140000
END:DAYLIGHT
BEGIN:STANDARD
TZOFFSETFROM:+1300
TZOFFSETTO:+1200
TZNAME:NZST
DTSTART:20250405T140000
END:STANDARD
BEGIN:DAYLIGHT
TZOFFSETFROM:+1200
TZOFFSETTO:+1300
TZNAME:NZDT
DTSTART:20250927T140000
END:DAYLIGHT
BEGIN:STANDARD
TZOFFSETFROM:+1300
TZOFFSETTO:+1200
TZNAME:NZST
DTSTART:20260404T140000
END:STANDARD
BEGIN:DAYLIGHT
TZOFFSETFROM:+1200
TZOFFSETTO:+1300
TZNAME:NZDT
DTSTART:20260926T140000
END:DAYLIGHT
END:VTIMEZONE
BEGIN:VEVENT
DTSTART;TZID=Pacific/Auckland:20250813T180000
DTEND;TZID=Pacific/Auckland:20250813T193000
DTSTAMP:20260425T234646
CREATED:20241219T005655Z
LAST-MODIFIED:20250925T015307Z
UID:13417-1755108000-1755113400@www.chandrakirti.co.nz
SUMMARY:Wednesday Class
DESCRIPTION:Wednesday evenings 6:00-7:30 pm (will change to 7.00-8.30pm when daylight savings rolls over on 1 October) \nTopic: Lama Tsong Khapa’s famous “Middle Length Lam Rim” \nCost for the course is $210 for the 14 weeks. Cost of the hardcopy textbook is $100. \nWe will study The Middle-Length Treatise on the Stages of the Path to Enlightenment   by Je Tsongkhapa\, translated by Philip Quarcoo \nFor registered students\, the e-book is available for US$9.95 from Wisdom Publications\, discount code fpmt995 \nClass offered in person and online via Zoom. \nFor direct credit\, please email us for bank info. \nEmail meditate@chandrakirti.co.nz to ask anything and register.
URL:https://www.chandrakirti.co.nz/event/wednesday-class-feb-june2025-2025-02-26/2025-08-13/
LOCATION:Chandrakirti Meditation Centre\, 289 Sunrise Valley Road\, Upper Moutere\, 7173\, New Zealand
CATEGORIES:Teaching,Weekly Events
END:VEVENT
END:VCALENDAR